BEGIN:VCALENDAR
VERSION:2.0
PRODID:-//Tukios.com/
BEGIN:VEVENT
UID:131ab3f0-073a-4f5e-80ef-39d5027cbcc6@www.glendenilson.com
DTSTAMP:20260421T012334Z
DTSTART:20260423T180000Z
DTEND:20260423T190000Z
SUMMARY:Funeral Service
DESCRIPTION:
URL:https://www.glendenilson.com/obituaries/victor-lundeen
LOCATION: 102 Lincoln Ave.  Battle Lake MN 56515
GEO:46.2819004;-95.7158954
END:VEVENT
END:VCALENDAR