BEGIN:VCALENDAR
VERSION:2.0
PRODID:-//Tukios.com/
BEGIN:VEVENT
UID:797f940d-bbc7-4ba2-b8ef-b646a080398d@www.glendenilson.com
DTSTAMP:20260421T012309Z
DTSTART:20260423T170000Z
DTEND:20260423T180000Z
SUMMARY:Visitation
DESCRIPTION:
URL:https://www.glendenilson.com/obituaries/victor-lundeen
LOCATION: 102 Lincoln Ave.  Battle Lake MN 56515
GEO:46.2819004;-95.7158954
END:VEVENT
END:VCALENDAR